BEGIN:VCALENDAR
VERSION:2.0
PRODID:-//TSV Wittlingen 1914 e.V. - ECPv6.15.20//NONSGML v1.0//EN
CALSCALE:GREGORIAN
METHOD:PUBLISH
X-WR-CALNAME:TSV Wittlingen 1914 e.V.
X-ORIGINAL-URL:https://tsv-wittlingen.de
X-WR-CALDESC:Veranstaltungen für TSV Wittlingen 1914 e.V.
REFRESH-INTERVAL;VALUE=DURATION:PT1H
X-Robots-Tag:noindex
X-PUBLISHED-TTL:PT1H
BEGIN:VTIMEZONE
TZID:Europe/Paris
BEGIN:DAYLIGHT
TZOFFSETFROM:+0100
TZOFFSETTO:+0200
TZNAME:CEST
DTSTART:20240331T010000
END:DAYLIGHT
BEGIN:STANDARD
TZOFFSETFROM:+0200
TZOFFSETTO:+0100
TZNAME:CET
DTSTART:20241027T010000
END:STANDARD
BEGIN:DAYLIGHT
TZOFFSETFROM:+0100
TZOFFSETTO:+0200
TZNAME:CEST
DTSTART:20250330T010000
END:DAYLIGHT
BEGIN:STANDARD
TZOFFSETFROM:+0200
TZOFFSETTO:+0100
TZNAME:CET
DTSTART:20251026T010000
END:STANDARD
BEGIN:DAYLIGHT
TZOFFSETFROM:+0100
TZOFFSETTO:+0200
TZNAME:CEST
DTSTART:20260329T010000
END:DAYLIGHT
BEGIN:STANDARD
TZOFFSETFROM:+0200
TZOFFSETTO:+0100
TZNAME:CET
DTSTART:20261025T010000
END:STANDARD
END:VTIMEZONE
BEGIN:VEVENT
DTSTART;TZID=Europe/Paris:20250903T190000
DTEND;TZID=Europe/Paris:20250903T204500
DTSTAMP:20260420T012757
CREATED:20250728T160211Z
LAST-MODIFIED:20250728T160211Z
UID:1440-1756926000-1756932300@tsv-wittlingen.de
SUMMARY:TuS Metzingen II - TSV Wittlingen | Herren | 1. Spieltag
DESCRIPTION:
URL:https://tsv-wittlingen.de/termin/tus-metzingen-ii-tsv-wittlingen-herren-1-spieltag/
CATEGORIES:Herren
END:VEVENT
END:VCALENDAR