BEGIN:VCALENDAR
VERSION:2.0
PRODID:-//TSV Wittlingen 1914 e.V. - ECPv6.15.20//NONSGML v1.0//EN
CALSCALE:GREGORIAN
METHOD:PUBLISH
X-ORIGINAL-URL:https://tsv-wittlingen.de
X-WR-CALDESC:Veranstaltungen für TSV Wittlingen 1914 e.V.
REFRESH-INTERVAL;VALUE=DURATION:PT1H
X-Robots-Tag:noindex
X-PUBLISHED-TTL:PT1H
BEGIN:VTIMEZONE
TZID:Europe/Paris
BEGIN:DAYLIGHT
TZOFFSETFROM:+0100
TZOFFSETTO:+0200
TZNAME:CEST
DTSTART:20240331T010000
END:DAYLIGHT
BEGIN:STANDARD
TZOFFSETFROM:+0200
TZOFFSETTO:+0100
TZNAME:CET
DTSTART:20241027T010000
END:STANDARD
BEGIN:DAYLIGHT
TZOFFSETFROM:+0100
TZOFFSETTO:+0200
TZNAME:CEST
DTSTART:20250330T010000
END:DAYLIGHT
BEGIN:STANDARD
TZOFFSETFROM:+0200
TZOFFSETTO:+0100
TZNAME:CET
DTSTART:20251026T010000
END:STANDARD
BEGIN:DAYLIGHT
TZOFFSETFROM:+0100
TZOFFSETTO:+0200
TZNAME:CEST
DTSTART:20260329T010000
END:DAYLIGHT
BEGIN:STANDARD
TZOFFSETFROM:+0200
TZOFFSETTO:+0100
TZNAME:CET
DTSTART:20261025T010000
END:STANDARD
BEGIN:DAYLIGHT
TZOFFSETFROM:+0100
TZOFFSETTO:+0200
TZNAME:CEST
DTSTART:20270328T010000
END:DAYLIGHT
BEGIN:STANDARD
TZOFFSETFROM:+0200
TZOFFSETTO:+0100
TZNAME:CET
DTSTART:20271031T010000
END:STANDARD
END:VTIMEZONE
BEGIN:VEVENT
DTSTART;TZID=Europe/Paris:20260412T150000
DTEND;TZID=Europe/Paris:20260412T164500
DTSTAMP:20260419T161040
CREATED:20250728T155817Z
LAST-MODIFIED:20250728T155817Z
UID:1428-1776006000-1776012300@tsv-wittlingen.de
SUMMARY:TSV Wittlingen - TSG Münsingen | Herren | 22. Spieltag
DESCRIPTION:
URL:https://tsv-wittlingen.de/termin/tsv-wittlingen-tsg-muensingen-herren-22-spieltag/
CATEGORIES:Herren
END:VEVENT
BEGIN:VEVENT
DTSTART;TZID=Europe/Paris:20260401T190000
DTEND;TZID=Europe/Paris:20260401T204500
DTSTAMP:20260419T161040
CREATED:20250729T123111Z
LAST-MODIFIED:20250729T123111Z
UID:1460-1775070000-1775076300@tsv-wittlingen.de
SUMMARY:FC Lichtenstein  - TSV Wittlingen | Herren | 21. Spieltag
DESCRIPTION:
URL:https://tsv-wittlingen.de/termin/fc-lichtenstein-tsv-wittlingen-herren-21-spieltag/
CATEGORIES:Herren
END:VEVENT
BEGIN:VEVENT
DTSTART;TZID=Europe/Paris:20260329T150000
DTEND;TZID=Europe/Paris:20260329T164500
DTSTAMP:20260419T161040
CREATED:20250728T155758Z
LAST-MODIFIED:20250728T155758Z
UID:1426-1774796400-1774802700@tsv-wittlingen.de
SUMMARY:TSV Wittlingen - FC Sönnenbühl | Herren | 20. Spieltag
DESCRIPTION:
URL:https://tsv-wittlingen.de/termin/tsv-wittlingen-fc-soennenbuehl-herren-20-spieltag/
CATEGORIES:Herren
END:VEVENT
BEGIN:VEVENT
DTSTART;TZID=Europe/Paris:20260322T150000
DTEND;TZID=Europe/Paris:20260322T164500
DTSTAMP:20260419T161040
CREATED:20250729T123022Z
LAST-MODIFIED:20250729T123022Z
UID:1458-1774191600-1774197900@tsv-wittlingen.de
SUMMARY:SGM TSV Hayingen/​ TSG Zwiefalten/​ TSV Pfronstetten - TSV Wittlingen | Herren | 19. Spieltag
DESCRIPTION:
URL:https://tsv-wittlingen.de/termin/sgm-tsv-hayingen-tsg-zwiefalten-tsv-pfronstetten-tsv-wittlingen-herren-19-spieltag/
CATEGORIES:Herren
END:VEVENT
BEGIN:VEVENT
DTSTART;TZID=Europe/Paris:20260315T150000
DTEND;TZID=Europe/Paris:20260315T164500
DTSTAMP:20260419T161040
CREATED:20250728T155735Z
LAST-MODIFIED:20250728T155735Z
UID:1424-1773586800-1773593100@tsv-wittlingen.de
SUMMARY:TSV Wittlingen - SV Lautertal | Herren | 18. Spieltag
DESCRIPTION:
URL:https://tsv-wittlingen.de/termin/tsv-wittlingen-sv-lautertal-herren-18-spieltag/
CATEGORIES:Herren
END:VEVENT
BEGIN:VEVENT
DTSTART;TZID=Europe/Paris:20260308T150000
DTEND;TZID=Europe/Paris:20260308T164500
DTSTAMP:20260419T161040
CREATED:20250729T122934Z
LAST-MODIFIED:20250729T122934Z
UID:1456-1772982000-1772988300@tsv-wittlingen.de
SUMMARY:FC Engstingen  - TSV Wittlingen | Herren | 17. Spieltag
DESCRIPTION:
URL:https://tsv-wittlingen.de/termin/fc-engstingen-tsv-wittlingen-herren-17-spieltag/
CATEGORIES:Herren
END:VEVENT
BEGIN:VEVENT
DTSTART;TZID=Europe/Paris:20260228T130000
DTEND;TZID=Europe/Paris:20260228T144500
DTSTAMP:20260419T161040
CREATED:20260210T123523Z
LAST-MODIFIED:20260210T123523Z
UID:2005-1772283600-1772289900@tsv-wittlingen.de
SUMMARY:SV Walddorf II – TSV Wittlingen | Herren | Testspiel
DESCRIPTION:
URL:https://tsv-wittlingen.de/termin/sv-walddorf-ii-tsv-wittlingen-herren-testspiel/
CATEGORIES:Herren
END:VEVENT
BEGIN:VEVENT
DTSTART;TZID=Europe/Paris:20260221T160000
DTEND;TZID=Europe/Paris:20260221T174500
DTSTAMP:20260419T161040
CREATED:20251128T100117Z
LAST-MODIFIED:20260210T123438Z
UID:1918-1771689600-1771695900@tsv-wittlingen.de
SUMMARY:TSV Jesingen – TSV Wittlingen | Herren | Testspiel
DESCRIPTION:
URL:https://tsv-wittlingen.de/termin/tv-unterboihingen-tsv-wittlingen-herren-testspiel/
CATEGORIES:Herren
END:VEVENT
BEGIN:VEVENT
DTSTART;TZID=Europe/Paris:20260219T200000
DTEND;TZID=Europe/Paris:20260219T220000
DTSTAMP:20260419T161040
CREATED:20251110T095344Z
LAST-MODIFIED:20251110T095344Z
UID:1602-1771531200-1771538400@tsv-wittlingen.de
SUMMARY:TSG Reutlingen - TSV Wittlingen | Herren | Testspiel
DESCRIPTION:
URL:https://tsv-wittlingen.de/termin/tsg-reutlingen-tsv-wittlingen-herren-testspiel/
CATEGORIES:Herren
END:VEVENT
BEGIN:VEVENT
DTSTART;TZID=Europe/Paris:20260215T110000
DTEND;TZID=Europe/Paris:20260215T124500
DTSTAMP:20260419T161040
CREATED:20260210T123351Z
LAST-MODIFIED:20260210T123351Z
UID:2001-1771153200-1771159500@tsv-wittlingen.de
SUMMARY:TV Bempflingen – TSV Wittlingen | Herren | Testspiel
DESCRIPTION:
URL:https://tsv-wittlingen.de/termin/tv-bempflingen-tsv-wittlingen-herren-testspiel/
CATEGORIES:Herren
END:VEVENT
BEGIN:VEVENT
DTSTART;TZID=Europe/Paris:20251207T143000
DTEND;TZID=Europe/Paris:20251207T161500
DTSTAMP:20260419T161040
CREATED:20250728T155640Z
LAST-MODIFIED:20251128T095940Z
UID:1420-1765117800-1765124100@tsv-wittlingen.de
SUMMARY:TSV Wittlingen - SGM TSV Oberstetten/​TSV Ödenwaldstetten | Herren | 15. Spieltag
DESCRIPTION:
URL:https://tsv-wittlingen.de/termin/tsv-wittlingen-sgm-oberstetten-herren-15-spieltag/
CATEGORIES:Herren
END:VEVENT
BEGIN:VEVENT
DTSTART;TZID=Europe/Paris:20251130T143000
DTEND;TZID=Europe/Paris:20251130T161500
DTSTAMP:20260419T161040
CREATED:20250728T155704Z
LAST-MODIFIED:20250729T123601Z
UID:1422-1764513000-1764519300@tsv-wittlingen.de
SUMMARY:TSV Wittlingen - TuS Metzingen II | Herren | 16. Spieltag
DESCRIPTION:
URL:https://tsv-wittlingen.de/termin/tsv-wittlingen-tus-metzingen-ii-herren-16-spieltag/
CATEGORIES:Herren
END:VEVENT
BEGIN:VEVENT
DTSTART;TZID=Europe/Paris:20251116T143000
DTEND;TZID=Europe/Paris:20251116T161500
DTSTAMP:20260419T161040
CREATED:20250729T122848Z
LAST-MODIFIED:20250729T122848Z
UID:1454-1763303400-1763309700@tsv-wittlingen.de
SUMMARY:FV Bad Urach - TSV Wittlingen | Herren | 14. Spieltag
DESCRIPTION:
URL:https://tsv-wittlingen.de/termin/fv-bad-urach-tsv-wittlingen-herren-14-spieltag/
CATEGORIES:Herren
END:VEVENT
BEGIN:VEVENT
DTSTART;TZID=Europe/Paris:20251108T163000
DTEND;TZID=Europe/Paris:20251108T180000
DTSTAMP:20260419T161040
CREATED:20250728T155605Z
LAST-MODIFIED:20251110T095154Z
UID:1418-1762619400-1762624800@tsv-wittlingen.de
SUMMARY:TSV Wittlingen - SV Hülben | Herren | 13. Spieltag
DESCRIPTION:
URL:https://tsv-wittlingen.de/termin/tsv-wittlingen-sv-huelben-herren-13-spieltag/
CATEGORIES:Herren
END:VEVENT
BEGIN:VEVENT
DTSTART;TZID=Europe/Paris:20251102T143000
DTEND;TZID=Europe/Paris:20251102T161500
DTSTAMP:20260419T161040
CREATED:20250728T155537Z
LAST-MODIFIED:20250728T155537Z
UID:1416-1762093800-1762100100@tsv-wittlingen.de
SUMMARY:TSV Wittlingen - SV Würtingen | Herren | 12. Spieltag
DESCRIPTION:
URL:https://tsv-wittlingen.de/termin/tsv-wittlingen-sv-wuertingen-herren-12-spieltag/
CATEGORIES:Herren
END:VEVENT
BEGIN:VEVENT
DTSTART;TZID=Europe/Paris:20251026T150000
DTEND;TZID=Europe/Paris:20251026T164500
DTSTAMP:20260419T161040
CREATED:20250729T122759Z
LAST-MODIFIED:20250729T122759Z
UID:1452-1761490800-1761497100@tsv-wittlingen.de
SUMMARY:SGM SV Bremelau/​SV Granheim - TSV Wittlingen | Herren | 11. Spieltag
DESCRIPTION:
URL:https://tsv-wittlingen.de/termin/sgm-sv-bremelau-sv-granheim-tsv-wittlingen-herren-11-spieltag/
CATEGORIES:Herren
END:VEVENT
BEGIN:VEVENT
DTSTART;TZID=Europe/Paris:20251019T150000
DTEND;TZID=Europe/Paris:20251019T164500
DTSTAMP:20260419T161040
CREATED:20250728T155459Z
LAST-MODIFIED:20250729T122322Z
UID:1414-1760886000-1760892300@tsv-wittlingen.de
SUMMARY:TSV Wittlingen - SGM TSV Steinhilben /​ TSV Trochtelfingen | Herren | 10. Spieltag
DESCRIPTION:
URL:https://tsv-wittlingen.de/termin/tsv-wittlingen-sgm-steinhilben-herren-10-spieltag/
CATEGORIES:Herren
END:VEVENT
BEGIN:VEVENT
DTSTART;TZID=Europe/Paris:20251012T150000
DTEND;TZID=Europe/Paris:20251012T164500
DTSTAMP:20260419T161040
CREATED:20250729T122720Z
LAST-MODIFIED:20250729T122720Z
UID:1450-1760281200-1760287500@tsv-wittlingen.de
SUMMARY:TSV Holzelfingen I - TSV Wittlingen | Herren | 9. Spieltag
DESCRIPTION:
URL:https://tsv-wittlingen.de/termin/tsv-holzelfingen-i-tsv-wittlingen-herren-9-spieltag/
CATEGORIES:Herren
END:VEVENT
BEGIN:VEVENT
DTSTART;VALUE=DATE:20251004
DTEND;VALUE=DATE:20251006
DTSTAMP:20260419T161040
CREATED:20250214T175949Z
LAST-MODIFIED:20250214T175949Z
UID:468-1759536000-1759708799@tsv-wittlingen.de
SUMMARY:Schlachtfest
DESCRIPTION:
URL:https://tsv-wittlingen.de/termin/schlachtfest/
LOCATION:TSV Sportheim\, Am Hockenloch\,\, Bad Urach\, 72574
CATEGORIES:Feste
END:VEVENT
BEGIN:VEVENT
DTSTART;TZID=Europe/Paris:20250928T150000
DTEND;TZID=Europe/Paris:20250928T164500
DTSTAMP:20260419T161040
CREATED:20250729T122639Z
LAST-MODIFIED:20250729T122639Z
UID:1448-1759071600-1759077900@tsv-wittlingen.de
SUMMARY:TSG Münsingen - TSV Wittlingen | Herren | 7. Spieltag
DESCRIPTION:
URL:https://tsv-wittlingen.de/termin/tsg-muensingen-tsv-wittlingen-herren-7-spieltag/
CATEGORIES:Herren
END:VEVENT
BEGIN:VEVENT
DTSTART;TZID=Europe/Paris:20250924T190000
DTEND;TZID=Europe/Paris:20250924T204500
DTSTAMP:20260419T161040
CREATED:20250728T155421Z
LAST-MODIFIED:20250728T155421Z
UID:1412-1758740400-1758746700@tsv-wittlingen.de
SUMMARY:TSV Wittlingen - SV Auingen | Herren | 8. Spieltag
DESCRIPTION:
URL:https://tsv-wittlingen.de/termin/tsv-wittlingen-sv-auingen-herren-8-spieltag/
CATEGORIES:Herren
END:VEVENT
BEGIN:VEVENT
DTSTART;TZID=Europe/Paris:20250921T150000
DTEND;TZID=Europe/Paris:20250921T164500
DTSTAMP:20260419T161040
CREATED:20250728T155331Z
LAST-MODIFIED:20250728T155331Z
UID:1410-1758466800-1758473100@tsv-wittlingen.de
SUMMARY:TSV Wittlingen  - FC Lichtenstein | Herren | 6. Spieltag
DESCRIPTION:
URL:https://tsv-wittlingen.de/termin/tsv-wittlingen-fc-lichtenstein-herren-6-spieltag/
CATEGORIES:Herren
END:VEVENT
BEGIN:VEVENT
DTSTART;TZID=Europe/Paris:20250914T150000
DTEND;TZID=Europe/Paris:20250914T164500
DTSTAMP:20260419T161040
CREATED:20250729T122523Z
LAST-MODIFIED:20250729T122523Z
UID:1446-1757862000-1757868300@tsv-wittlingen.de
SUMMARY:FC Sonnenbühl - TSV Wittlingen | Herren | 5. Spieltag
DESCRIPTION:
URL:https://tsv-wittlingen.de/termin/fc-sonnenbuehl-tsv-wittlingen-herren-5-spieltag/
CATEGORIES:Herren
END:VEVENT
BEGIN:VEVENT
DTSTART;VALUE=DATE:20250913
DTEND;VALUE=DATE:20250915
DTSTAMP:20260419T161040
CREATED:20250214T175923Z
LAST-MODIFIED:20250214T175923Z
UID:466-1757721600-1757894399@tsv-wittlingen.de
SUMMARY:5. Schwäbischer Albcup für Spitzhunde
DESCRIPTION:
URL:https://tsv-wittlingen.de/termin/5-schwaebischer-albcup-fuer-spitzhunde/
LOCATION:TSV Sportheim\, Am Hockenloch\,\, Bad Urach\, 72574
CATEGORIES:Feste
END:VEVENT
BEGIN:VEVENT
DTSTART;TZID=Europe/Paris:20250907T150000
DTEND;TZID=Europe/Paris:20250907T164500
DTSTAMP:20260419T161040
CREATED:20250728T155301Z
LAST-MODIFIED:20250729T122306Z
UID:1408-1757257200-1757263500@tsv-wittlingen.de
SUMMARY:TSV Wittlingen - SGM TSV Hayingen/​ TSG Zwiefalten/​ TSV Pfronstetten | Herren | 4. Spieltag
DESCRIPTION:
URL:https://tsv-wittlingen.de/termin/tsv-wittlingen-sgm-hayingen-herren-4-spieltag/
CATEGORIES:Herren
END:VEVENT
BEGIN:VEVENT
DTSTART;TZID=Europe/Paris:20250903T190000
DTEND;TZID=Europe/Paris:20250903T204500
DTSTAMP:20260419T161040
CREATED:20250728T160211Z
LAST-MODIFIED:20250728T160211Z
UID:1440-1756926000-1756932300@tsv-wittlingen.de
SUMMARY:TuS Metzingen II - TSV Wittlingen | Herren | 1. Spieltag
DESCRIPTION:
URL:https://tsv-wittlingen.de/termin/tus-metzingen-ii-tsv-wittlingen-herren-1-spieltag/
CATEGORIES:Herren
END:VEVENT
BEGIN:VEVENT
DTSTART;TZID=Europe/Paris:20250831T150000
DTEND;TZID=Europe/Paris:20250831T164500
DTSTAMP:20260419T161040
CREATED:20250728T160138Z
LAST-MODIFIED:20250728T160138Z
UID:1438-1756652400-1756658700@tsv-wittlingen.de
SUMMARY:SV Lautertal 2017 - TSV Wittlingen | Herren | 3. Spieltag
DESCRIPTION:
URL:https://tsv-wittlingen.de/termin/sv-lautertal-2017-tsv-wittlingen-herren-3-spieltag/
CATEGORIES:Herren
END:VEVENT
BEGIN:VEVENT
DTSTART;TZID=Europe/Paris:20250824T150000
DTEND;TZID=Europe/Paris:20250824T164500
DTSTAMP:20260419T161040
CREATED:20250728T155144Z
LAST-MODIFIED:20250728T155144Z
UID:1406-1756047600-1756053900@tsv-wittlingen.de
SUMMARY:TSV Wittlingen - FC Engstingen | Herren | 2. Spieltag
DESCRIPTION:
URL:https://tsv-wittlingen.de/termin/tsv-wittlingen-fc-engstingen-herren-2-spieltag/
CATEGORIES:Herren
END:VEVENT
BEGIN:VEVENT
DTSTART;TZID=Europe/Paris:20250810T160000
DTEND;TZID=Europe/Paris:20250810T174500
DTSTAMP:20260419T161040
CREATED:20250728T160037Z
LAST-MODIFIED:20250729T122212Z
UID:1436-1754841600-1754847900@tsv-wittlingen.de
SUMMARY:FC Reutlingen - TSV Wittlingen | Herren | Bezirkspokal
DESCRIPTION:
URL:https://tsv-wittlingen.de/termin/fc-reutlingen-tsv-wittlingen-herren-berzirkspokal/
CATEGORIES:Herren
END:VEVENT
BEGIN:VEVENT
DTSTART;TZID=Europe/Paris:20250810T160000
DTEND;TZID=Europe/Paris:20250810T174500
DTSTAMP:20260419T161040
CREATED:20250728T155112Z
LAST-MODIFIED:20251110T095439Z
UID:1404-1754841600-1754847900@tsv-wittlingen.de
SUMMARY:FC Reutlingen - TSV Wittlingen | Herren | Bezirkspokal
DESCRIPTION:
URL:https://tsv-wittlingen.de/termin/fc-reutlingen-tsv-wittlingen-herren-bezirkspokal/
CATEGORIES:Herren
END:VEVENT
END:VCALENDAR