BEGIN:VCALENDAR
VERSION:2.0
PRODID:-//TSV Wittlingen 1914 e.V. - ECPv6.15.20//NONSGML v1.0//EN
CALSCALE:GREGORIAN
METHOD:PUBLISH
X-WR-CALNAME:TSV Wittlingen 1914 e.V.
X-ORIGINAL-URL:https://tsv-wittlingen.de
X-WR-CALDESC:Veranstaltungen für TSV Wittlingen 1914 e.V.
REFRESH-INTERVAL;VALUE=DURATION:PT1H
X-Robots-Tag:noindex
X-PUBLISHED-TTL:PT1H
BEGIN:VTIMEZONE
TZID:Europe/Paris
BEGIN:DAYLIGHT
TZOFFSETFROM:+0100
TZOFFSETTO:+0200
TZNAME:CEST
DTSTART:20240331T010000
END:DAYLIGHT
BEGIN:STANDARD
TZOFFSETFROM:+0200
TZOFFSETTO:+0100
TZNAME:CET
DTSTART:20241027T010000
END:STANDARD
BEGIN:DAYLIGHT
TZOFFSETFROM:+0100
TZOFFSETTO:+0200
TZNAME:CEST
DTSTART:20250330T010000
END:DAYLIGHT
BEGIN:STANDARD
TZOFFSETFROM:+0200
TZOFFSETTO:+0100
TZNAME:CET
DTSTART:20251026T010000
END:STANDARD
BEGIN:DAYLIGHT
TZOFFSETFROM:+0100
TZOFFSETTO:+0200
TZNAME:CEST
DTSTART:20260329T010000
END:DAYLIGHT
BEGIN:STANDARD
TZOFFSETFROM:+0200
TZOFFSETTO:+0100
TZNAME:CET
DTSTART:20261025T010000
END:STANDARD
END:VTIMEZONE
BEGIN:VEVENT
DTSTART;TZID=Europe/Paris:20250301T120000
DTEND;TZID=Europe/Paris:20250301T150000
DTSTAMP:20260421T191202
CREATED:20250214T132049Z
LAST-MODIFIED:20250307T222258Z
UID:230-1740830400-1740841200@tsv-wittlingen.de
SUMMARY:FC Neuhausen - TSV Wittlingen 1:7 | Herren | Testspiel
DESCRIPTION:
URL:https://tsv-wittlingen.de/termin/fc-neuhausen-tsv-wittlingen-testspiel/
CATEGORIES:Herren
END:VEVENT
BEGIN:VEVENT
DTSTART;TZID=Europe/Paris:20250309T130000
DTEND;TZID=Europe/Paris:20250309T150000
DTSTAMP:20260421T191202
CREATED:20250215T075752Z
LAST-MODIFIED:20250311T064651Z
UID:485-1741525200-1741532400@tsv-wittlingen.de
SUMMARY:TSV Sondelfingen II - TSV Wittlingen 3:4 | Herren | Testspiel
DESCRIPTION:
URL:https://tsv-wittlingen.de/termin/tsv-sondelfingen-ii-tsv-wittlingen-herren-testspiel/
CATEGORIES:Herren
END:VEVENT
BEGIN:VEVENT
DTSTART;TZID=Europe/Paris:20250316T150000
DTEND;TZID=Europe/Paris:20250316T170000
DTSTAMP:20260421T191202
CREATED:20250215T075942Z
LAST-MODIFIED:20250215T075942Z
UID:488-1742137200-1742144400@tsv-wittlingen.de
SUMMARY:FV Bad Urach - TSV Wittlingen | Herren | 18. Spieltag
DESCRIPTION:
URL:https://tsv-wittlingen.de/termin/fv-bad-urach-tsv-wittlingen-herren-18-spieltag/
CATEGORIES:Herren
END:VEVENT
BEGIN:VEVENT
DTSTART;TZID=Europe/Paris:20250323T150000
DTEND;TZID=Europe/Paris:20250323T170000
DTSTAMP:20260421T191202
CREATED:20250215T080019Z
LAST-MODIFIED:20250215T080801Z
UID:490-1742742000-1742749200@tsv-wittlingen.de
SUMMARY:TSV Wittlingen - SGM TSV Oberstetten/​TSV Ödenwaldstetten | Herren | 19. Spieltag
DESCRIPTION:
URL:https://tsv-wittlingen.de/termin/tsv-wittlingen-sgm-tsv-oberstetten-tsv-oedenwaldstetten-herren-19-spieltag/
LOCATION:TSV Sportheim\, Am Hockenloch\,\, Bad Urach\, 72574
CATEGORIES:Herren
END:VEVENT
BEGIN:VEVENT
DTSTART;TZID=Europe/Paris:20250330T150000
DTEND;TZID=Europe/Paris:20250330T170000
DTSTAMP:20260421T191202
CREATED:20250215T080047Z
LAST-MODIFIED:20250215T080047Z
UID:492-1743346800-1743354000@tsv-wittlingen.de
SUMMARY:TSV Holzelfingen - TSV Wittlingen | Herren | 20. Spieltag
DESCRIPTION:
URL:https://tsv-wittlingen.de/termin/tsv-holzelfingen-tsv-wittlingen-herren-20-spieltag/
CATEGORIES:Herren
END:VEVENT
END:VCALENDAR