BEGIN:VCALENDAR
VERSION:2.0
PRODID:-//TSV Wittlingen 1914 e.V. - ECPv6.15.20//NONSGML v1.0//EN
CALSCALE:GREGORIAN
METHOD:PUBLISH
X-ORIGINAL-URL:https://tsv-wittlingen.de
X-WR-CALDESC:Veranstaltungen für TSV Wittlingen 1914 e.V.
REFRESH-INTERVAL;VALUE=DURATION:PT1H
X-Robots-Tag:noindex
X-PUBLISHED-TTL:PT1H
BEGIN:VTIMEZONE
TZID:Europe/Paris
BEGIN:DAYLIGHT
TZOFFSETFROM:+0100
TZOFFSETTO:+0200
TZNAME:CEST
DTSTART:20240331T010000
END:DAYLIGHT
BEGIN:STANDARD
TZOFFSETFROM:+0200
TZOFFSETTO:+0100
TZNAME:CET
DTSTART:20241027T010000
END:STANDARD
BEGIN:DAYLIGHT
TZOFFSETFROM:+0100
TZOFFSETTO:+0200
TZNAME:CEST
DTSTART:20250330T010000
END:DAYLIGHT
BEGIN:STANDARD
TZOFFSETFROM:+0200
TZOFFSETTO:+0100
TZNAME:CET
DTSTART:20251026T010000
END:STANDARD
BEGIN:DAYLIGHT
TZOFFSETFROM:+0100
TZOFFSETTO:+0200
TZNAME:CEST
DTSTART:20260329T010000
END:DAYLIGHT
BEGIN:STANDARD
TZOFFSETFROM:+0200
TZOFFSETTO:+0100
TZNAME:CET
DTSTART:20261025T010000
END:STANDARD
END:VTIMEZONE
BEGIN:VEVENT
DTSTART;TZID=Europe/Paris:20250406T150000
DTEND;TZID=Europe/Paris:20250406T170000
DTSTAMP:20260421T174336
CREATED:20250215T080120Z
LAST-MODIFIED:20250215T080120Z
UID:494-1743951600-1743958800@tsv-wittlingen.de
SUMMARY:TSV Wittlingen - SGM SV Bremelau/​SV Granheim | Herren | 21. Spieltag
DESCRIPTION:
URL:https://tsv-wittlingen.de/termin/tsv-wittlingen-sgm-sv-bremelau-sv-granheim-herren-21-spieltag/
LOCATION:TSV Sportheim\, Am Hockenloch\,\, Bad Urach\, 72574
CATEGORIES:Herren
END:VEVENT
BEGIN:VEVENT
DTSTART;TZID=Europe/Paris:20250413T150000
DTEND;TZID=Europe/Paris:20250413T170000
DTSTAMP:20260421T174336
CREATED:20250215T080155Z
LAST-MODIFIED:20250215T080155Z
UID:496-1744556400-1744563600@tsv-wittlingen.de
SUMMARY:TSG Upfingen - TSV Wittlingen | Herren | 22. Spieltag
DESCRIPTION:
URL:https://tsv-wittlingen.de/termin/tsg-upfingen-tsv-wittlingen-herren-22-spieltag/
CATEGORIES:Herren
END:VEVENT
BEGIN:VEVENT
DTSTART;TZID=Europe/Paris:20250427T150000
DTEND;TZID=Europe/Paris:20250427T170000
DTSTAMP:20260421T174336
CREATED:20250215T080238Z
LAST-MODIFIED:20250215T080822Z
UID:498-1745766000-1745773200@tsv-wittlingen.de
SUMMARY:TSV Wittlingen - TSG Münsingen | Herren | 23. Spieltag
DESCRIPTION:
URL:https://tsv-wittlingen.de/termin/tsv-wittlingen-tsg-muensingen-herren-23-spieltag/
LOCATION:TSV Sportheim\, Am Hockenloch\,\, Bad Urach\, 72574
CATEGORIES:Herren
END:VEVENT
END:VCALENDAR