BEGIN:VCALENDAR
VERSION:2.0
PRODID:-//TSV Wittlingen 1914 e.V. - ECPv6.15.20//NONSGML v1.0//EN
CALSCALE:GREGORIAN
METHOD:PUBLISH
X-ORIGINAL-URL:https://tsv-wittlingen.de
X-WR-CALDESC:Veranstaltungen für TSV Wittlingen 1914 e.V.
REFRESH-INTERVAL;VALUE=DURATION:PT1H
X-Robots-Tag:noindex
X-PUBLISHED-TTL:PT1H
BEGIN:VTIMEZONE
TZID:Europe/Paris
BEGIN:DAYLIGHT
TZOFFSETFROM:+0100
TZOFFSETTO:+0200
TZNAME:CEST
DTSTART:20240331T010000
END:DAYLIGHT
BEGIN:STANDARD
TZOFFSETFROM:+0200
TZOFFSETTO:+0100
TZNAME:CET
DTSTART:20241027T010000
END:STANDARD
BEGIN:DAYLIGHT
TZOFFSETFROM:+0100
TZOFFSETTO:+0200
TZNAME:CEST
DTSTART:20250330T010000
END:DAYLIGHT
BEGIN:STANDARD
TZOFFSETFROM:+0200
TZOFFSETTO:+0100
TZNAME:CET
DTSTART:20251026T010000
END:STANDARD
BEGIN:DAYLIGHT
TZOFFSETFROM:+0100
TZOFFSETTO:+0200
TZNAME:CEST
DTSTART:20260329T010000
END:DAYLIGHT
BEGIN:STANDARD
TZOFFSETFROM:+0200
TZOFFSETTO:+0100
TZNAME:CET
DTSTART:20261025T010000
END:STANDARD
END:VTIMEZONE
BEGIN:VEVENT
DTSTART;TZID=Europe/Paris:20250712T170000
DTEND;TZID=Europe/Paris:20250712T190000
DTSTAMP:20260421T133156
CREATED:20250707T142836Z
LAST-MODIFIED:20250707T142836Z
UID:1246-1752339600-1752346800@tsv-wittlingen.de
SUMMARY:TSV Wittlingen – TB Metzingen | Herren | 1. Testspiel
DESCRIPTION:
URL:https://tsv-wittlingen.de/termin/tsv-wittlingen-tb-metzingen-herren-1-testspiel/
CATEGORIES:Herren
END:VEVENT
BEGIN:VEVENT
DTSTART;VALUE=DATE:20250713
DTEND;VALUE=DATE:20250714
DTSTAMP:20260421T133156
CREATED:20250422T101512Z
LAST-MODIFIED:20250707T142630Z
UID:1059-1752364800-1752451199@tsv-wittlingen.de
SUMMARY:1. Hockenloch-Cup (Bambini & F-Jugend)
DESCRIPTION:
URL:https://tsv-wittlingen.de/termin/1-hockenloch-cup-bambini-f-jugend/
CATEGORIES:Jugend
END:VEVENT
BEGIN:VEVENT
DTSTART;TZID=Europe/Paris:20250720T110000
DTEND;TZID=Europe/Paris:20250720T130000
DTSTAMP:20260421T133156
CREATED:20250707T142918Z
LAST-MODIFIED:20250707T142918Z
UID:1248-1753009200-1753016400@tsv-wittlingen.de
SUMMARY:TSV Wittlingen – Tus Metzingen I | Herren | 2. Testspiel
DESCRIPTION:
URL:https://tsv-wittlingen.de/termin/tsv-wittlingen-tus-metzingen-i-herren-2-testspiel/
CATEGORIES:Herren
END:VEVENT
BEGIN:VEVENT
DTSTART;VALUE=DATE:20250726
DTEND;VALUE=DATE:20250727
DTSTAMP:20260421T133156
CREATED:20250214T175823Z
LAST-MODIFIED:20250214T175823Z
UID:462-1753488000-1753574399@tsv-wittlingen.de
SUMMARY:Leistungshüten - Schäferlauf 2025
DESCRIPTION:
URL:https://tsv-wittlingen.de/termin/leistungshueten-schaeferlauf-2025/
LOCATION:TSV Sportheim\, Am Hockenloch\,\, Bad Urach\, 72574
CATEGORIES:Feste
END:VEVENT
BEGIN:VEVENT
DTSTART;VALUE=DATE:20250727
DTEND;VALUE=DATE:20250728
DTSTAMP:20260421T133156
CREATED:20250214T175859Z
LAST-MODIFIED:20250214T175859Z
UID:464-1753574400-1753660799@tsv-wittlingen.de
SUMMARY:Marktplatzhock - Schäferlauf 2025
DESCRIPTION:
URL:https://tsv-wittlingen.de/termin/marktplatzhock-schaeferlauf-2025/
CATEGORIES:Feste
END:VEVENT
BEGIN:VEVENT
DTSTART;TZID=Europe/Paris:20250730T193000
DTEND;TZID=Europe/Paris:20250730T213000
DTSTAMP:20260421T133156
CREATED:20250707T142958Z
LAST-MODIFIED:20250707T142958Z
UID:1250-1753903800-1753911000@tsv-wittlingen.de
SUMMARY:TSV Wittlingen – SGM Höllbach | Herren | 3. Testspiel
DESCRIPTION:
URL:https://tsv-wittlingen.de/termin/tsv-wittlingen-sgm-hoellbach-herren-3-testspiel/
CATEGORIES:Herren
END:VEVENT
END:VCALENDAR