BEGIN:VCALENDAR
VERSION:2.0
PRODID:-//TSV Wittlingen 1914 e.V. - ECPv6.15.20//NONSGML v1.0//EN
CALSCALE:GREGORIAN
METHOD:PUBLISH
X-ORIGINAL-URL:https://tsv-wittlingen.de
X-WR-CALDESC:Veranstaltungen für TSV Wittlingen 1914 e.V.
REFRESH-INTERVAL;VALUE=DURATION:PT1H
X-Robots-Tag:noindex
X-PUBLISHED-TTL:PT1H
BEGIN:VTIMEZONE
TZID:Europe/Paris
BEGIN:DAYLIGHT
TZOFFSETFROM:+0100
TZOFFSETTO:+0200
TZNAME:CEST
DTSTART:20250330T010000
END:DAYLIGHT
BEGIN:STANDARD
TZOFFSETFROM:+0200
TZOFFSETTO:+0100
TZNAME:CET
DTSTART:20251026T010000
END:STANDARD
BEGIN:DAYLIGHT
TZOFFSETFROM:+0100
TZOFFSETTO:+0200
TZNAME:CEST
DTSTART:20260329T010000
END:DAYLIGHT
BEGIN:STANDARD
TZOFFSETFROM:+0200
TZOFFSETTO:+0100
TZNAME:CET
DTSTART:20261025T010000
END:STANDARD
BEGIN:DAYLIGHT
TZOFFSETFROM:+0100
TZOFFSETTO:+0200
TZNAME:CEST
DTSTART:20270328T010000
END:DAYLIGHT
BEGIN:STANDARD
TZOFFSETFROM:+0200
TZOFFSETTO:+0100
TZNAME:CET
DTSTART:20271031T010000
END:STANDARD
END:VTIMEZONE
BEGIN:VEVENT
DTSTART;TZID=Europe/Paris:20260308T150000
DTEND;TZID=Europe/Paris:20260308T164500
DTSTAMP:20260419T145447
CREATED:20250729T122934Z
LAST-MODIFIED:20250729T122934Z
UID:1456-1772982000-1772988300@tsv-wittlingen.de
SUMMARY:FC Engstingen  - TSV Wittlingen | Herren | 17. Spieltag
DESCRIPTION:
URL:https://tsv-wittlingen.de/termin/fc-engstingen-tsv-wittlingen-herren-17-spieltag/
CATEGORIES:Herren
END:VEVENT
BEGIN:VEVENT
DTSTART;TZID=Europe/Paris:20260315T150000
DTEND;TZID=Europe/Paris:20260315T164500
DTSTAMP:20260419T145447
CREATED:20250728T155735Z
LAST-MODIFIED:20250728T155735Z
UID:1424-1773586800-1773593100@tsv-wittlingen.de
SUMMARY:TSV Wittlingen - SV Lautertal | Herren | 18. Spieltag
DESCRIPTION:
URL:https://tsv-wittlingen.de/termin/tsv-wittlingen-sv-lautertal-herren-18-spieltag/
CATEGORIES:Herren
END:VEVENT
BEGIN:VEVENT
DTSTART;TZID=Europe/Paris:20260322T150000
DTEND;TZID=Europe/Paris:20260322T164500
DTSTAMP:20260419T145447
CREATED:20250729T123022Z
LAST-MODIFIED:20250729T123022Z
UID:1458-1774191600-1774197900@tsv-wittlingen.de
SUMMARY:SGM TSV Hayingen/​ TSG Zwiefalten/​ TSV Pfronstetten - TSV Wittlingen | Herren | 19. Spieltag
DESCRIPTION:
URL:https://tsv-wittlingen.de/termin/sgm-tsv-hayingen-tsg-zwiefalten-tsv-pfronstetten-tsv-wittlingen-herren-19-spieltag/
CATEGORIES:Herren
END:VEVENT
BEGIN:VEVENT
DTSTART;TZID=Europe/Paris:20260329T150000
DTEND;TZID=Europe/Paris:20260329T164500
DTSTAMP:20260419T145447
CREATED:20250728T155758Z
LAST-MODIFIED:20250728T155758Z
UID:1426-1774796400-1774802700@tsv-wittlingen.de
SUMMARY:TSV Wittlingen - FC Sönnenbühl | Herren | 20. Spieltag
DESCRIPTION:
URL:https://tsv-wittlingen.de/termin/tsv-wittlingen-fc-soennenbuehl-herren-20-spieltag/
CATEGORIES:Herren
END:VEVENT
END:VCALENDAR