BEGIN:VCALENDAR
VERSION:2.0
PRODID:-//TSV Wittlingen 1914 e.V. - ECPv6.15.20//NONSGML v1.0//EN
CALSCALE:GREGORIAN
METHOD:PUBLISH
X-ORIGINAL-URL:https://tsv-wittlingen.de
X-WR-CALDESC:Veranstaltungen für TSV Wittlingen 1914 e.V.
REFRESH-INTERVAL;VALUE=DURATION:PT1H
X-Robots-Tag:noindex
X-PUBLISHED-TTL:PT1H
BEGIN:VTIMEZONE
TZID:Europe/Paris
BEGIN:DAYLIGHT
TZOFFSETFROM:+0100
TZOFFSETTO:+0200
TZNAME:CEST
DTSTART:20250330T010000
END:DAYLIGHT
BEGIN:STANDARD
TZOFFSETFROM:+0200
TZOFFSETTO:+0100
TZNAME:CET
DTSTART:20251026T010000
END:STANDARD
BEGIN:DAYLIGHT
TZOFFSETFROM:+0100
TZOFFSETTO:+0200
TZNAME:CEST
DTSTART:20260329T010000
END:DAYLIGHT
BEGIN:STANDARD
TZOFFSETFROM:+0200
TZOFFSETTO:+0100
TZNAME:CET
DTSTART:20261025T010000
END:STANDARD
BEGIN:DAYLIGHT
TZOFFSETFROM:+0100
TZOFFSETTO:+0200
TZNAME:CEST
DTSTART:20270328T010000
END:DAYLIGHT
BEGIN:STANDARD
TZOFFSETFROM:+0200
TZOFFSETTO:+0100
TZNAME:CET
DTSTART:20271031T010000
END:STANDARD
END:VTIMEZONE
BEGIN:VEVENT
DTSTART;TZID=Europe/Paris:20260503T150000
DTEND;TZID=Europe/Paris:20260503T164500
DTSTAMP:20260419T145405
CREATED:20250729T123229Z
LAST-MODIFIED:20250729T123229Z
UID:1464-1777820400-1777826700@tsv-wittlingen.de
SUMMARY:SGM TSV Steinhilben /​ TSV Trochtelfingen - TSV Wittlingen | Herren | 25. Spieltag
DESCRIPTION:
URL:https://tsv-wittlingen.de/termin/sgm-tsv-steinhilben-tsv-trochtelfingen-tsv-wittlingen-herren-25-spieltag/
CATEGORIES:Herren
END:VEVENT
BEGIN:VEVENT
DTSTART;TZID=Europe/Paris:20260510T150000
DTEND;TZID=Europe/Paris:20260510T164500
DTSTAMP:20260419T145405
CREATED:20250728T155905Z
LAST-MODIFIED:20250728T155905Z
UID:1432-1778425200-1778431500@tsv-wittlingen.de
SUMMARY:TSV Wittlingen - SV Bremelau | Herren | 26. Spieltag
DESCRIPTION:
URL:https://tsv-wittlingen.de/termin/tsv-wittlingen-sv-bremelau-herren-26-spieltag/
CATEGORIES:Herren
END:VEVENT
BEGIN:VEVENT
DTSTART;TZID=Europe/Paris:20260513T190000
DTEND;TZID=Europe/Paris:20260513T204500
DTSTAMP:20260419T145405
CREATED:20250729T123318Z
LAST-MODIFIED:20250729T123318Z
UID:1466-1778698800-1778705100@tsv-wittlingen.de
SUMMARY:SV Hülben - TSV Wittlingen | Herren | 27. Spieltag
DESCRIPTION:
URL:https://tsv-wittlingen.de/termin/sv-huelben-tsv-wittlingen-herren-27-spieltag/
CATEGORIES:Herren
END:VEVENT
BEGIN:VEVENT
DTSTART;TZID=Europe/Paris:20260517T150000
DTEND;TZID=Europe/Paris:20260517T164500
DTSTAMP:20260419T145405
CREATED:20250729T123403Z
LAST-MODIFIED:20250729T123403Z
UID:1468-1779030000-1779036300@tsv-wittlingen.de
SUMMARY:SV Würtingen - TSV Wittlingen | Herren | 28. Spieltag
DESCRIPTION:
URL:https://tsv-wittlingen.de/termin/sv-wuertingen-tsv-wittlingen-herren-28-spieltag/
CATEGORIES:Herren
END:VEVENT
BEGIN:VEVENT
DTSTART;TZID=Europe/Paris:20260531T150000
DTEND;TZID=Europe/Paris:20260531T164500
DTSTAMP:20260419T145405
CREATED:20250728T155925Z
LAST-MODIFIED:20250728T155925Z
UID:1434-1780239600-1780245900@tsv-wittlingen.de
SUMMARY:TSV Wittlingen - FV Bad Urach | Herren | 29. Spieltag
DESCRIPTION:
URL:https://tsv-wittlingen.de/termin/tsv-wittlingen-fv-bad-urach-herren-29-spieltag/
CATEGORIES:Herren
END:VEVENT
END:VCALENDAR